BEGIN:VCALENDAR
VERSION:2.0
PRODID:-//Running Dog Coursing - ECPv6.15.20//NONSGML v1.0//EN
CALSCALE:GREGORIAN
METHOD:PUBLISH
X-WR-CALNAME:Running Dog Coursing
X-ORIGINAL-URL:https://runningdogcoursing.com
X-WR-CALDESC:Events for Running Dog Coursing
REFRESH-INTERVAL;VALUE=DURATION:PT1H
X-Robots-Tag:noindex
X-PUBLISHED-TTL:PT1H
BEGIN:VTIMEZONE
TZID:America/Chicago
BEGIN:DAYLIGHT
TZOFFSETFROM:-0600
TZOFFSETTO:-0500
TZNAME:CDT
DTSTART:20230312T080000
END:DAYLIGHT
BEGIN:STANDARD
TZOFFSETFROM:-0500
TZOFFSETTO:-0600
TZNAME:CST
DTSTART:20231105T070000
END:STANDARD
BEGIN:DAYLIGHT
TZOFFSETFROM:-0600
TZOFFSETTO:-0500
TZNAME:CDT
DTSTART:20240310T080000
END:DAYLIGHT
BEGIN:STANDARD
TZOFFSETFROM:-0500
TZOFFSETTO:-0600
TZNAME:CST
DTSTART:20241103T070000
END:STANDARD
BEGIN:DAYLIGHT
TZOFFSETFROM:-0600
TZOFFSETTO:-0500
TZNAME:CDT
DTSTART:20250309T080000
END:DAYLIGHT
BEGIN:STANDARD
TZOFFSETFROM:-0500
TZOFFSETTO:-0600
TZNAME:CST
DTSTART:20251102T070000
END:STANDARD
END:VTIMEZONE
BEGIN:VEVENT
DTSTART;TZID=America/Chicago:20240223T083000
DTEND;TZID=America/Chicago:20240223T113000
DTSTAMP:20260425T131137
CREATED:20230928T193010Z
LAST-MODIFIED:20240207T220833Z
UID:52605-1708677000-1708687800@runningdogcoursing.com
SUMMARY:9 CATS North Florida ORKC Friday Test 1
DESCRIPTION:
URL:https://runningdogcoursing.com/event/9-cats-2024-02-23-2024425817/
LOCATION:North Florida Fair Grounds\, 441 E. Paul Russell Rd\, Tallahassee\, FL\, 32201\, United States
CATEGORIES:CATs
END:VEVENT
BEGIN:VEVENT
DTSTART;TZID=America/Chicago:20240223T130000
DTEND;TZID=America/Chicago:20240223T150000
DTSTAMP:20260425T131137
CREATED:20230928T193145Z
LAST-MODIFIED:20240207T220832Z
UID:52606-1708693200-1708700400@runningdogcoursing.com
SUMMARY:9 CATS North Florida ORKC Friday Test 2
DESCRIPTION:
URL:https://runningdogcoursing.com/event/9-cats-2024-02-23-2024425818/
LOCATION:North Florida Fair Grounds\, 441 E. Paul Russell Rd\, Tallahassee\, FL\, 32201\, United States
CATEGORIES:CATs
END:VEVENT
END:VCALENDAR