BEGIN:VCALENDAR
VERSION:2.0
PRODID:-//Running Dog Coursing - ECPv6.15.20//NONSGML v1.0//EN
CALSCALE:GREGORIAN
METHOD:PUBLISH
X-WR-CALNAME:Running Dog Coursing
X-ORIGINAL-URL:https://runningdogcoursing.com
X-WR-CALDESC:Events for Running Dog Coursing
REFRESH-INTERVAL;VALUE=DURATION:PT1H
X-Robots-Tag:noindex
X-PUBLISHED-TTL:PT1H
BEGIN:VTIMEZONE
TZID:America/Chicago
BEGIN:DAYLIGHT
TZOFFSETFROM:-0600
TZOFFSETTO:-0500
TZNAME:CDT
DTSTART:20230312T080000
END:DAYLIGHT
BEGIN:STANDARD
TZOFFSETFROM:-0500
TZOFFSETTO:-0600
TZNAME:CST
DTSTART:20231105T070000
END:STANDARD
BEGIN:DAYLIGHT
TZOFFSETFROM:-0600
TZOFFSETTO:-0500
TZNAME:CDT
DTSTART:20240310T080000
END:DAYLIGHT
BEGIN:STANDARD
TZOFFSETFROM:-0500
TZOFFSETTO:-0600
TZNAME:CST
DTSTART:20241103T070000
END:STANDARD
BEGIN:DAYLIGHT
TZOFFSETFROM:-0600
TZOFFSETTO:-0500
TZNAME:CDT
DTSTART:20250309T080000
END:DAYLIGHT
BEGIN:STANDARD
TZOFFSETFROM:-0500
TZOFFSETTO:-0600
TZNAME:CST
DTSTART:20251102T070000
END:STANDARD
END:VTIMEZONE
BEGIN:VEVENT
DTSTART;TZID=America/Chicago:20240221T083000
DTEND;TZID=America/Chicago:20240221T113000
DTSTAMP:20260425T131147
CREATED:20230926T215948Z
LAST-MODIFIED:20240207T220839Z
UID:52600-1708504200-1708515000@runningdogcoursing.com
SUMMARY:9 CATS North Florida ORKC Wednesday Test 1
DESCRIPTION:
URL:https://runningdogcoursing.com/event/9-cats-2024-02-21-2024425813/
LOCATION:North Florida Fair Grounds\, 441 E. Paul Russell Rd\, Tallahassee\, FL\, 32201\, United States
CATEGORIES:CATs
END:VEVENT
BEGIN:VEVENT
DTSTART;TZID=America/Chicago:20240221T130000
DTEND;TZID=America/Chicago:20240221T150000
DTSTAMP:20260425T131147
CREATED:20230926T215955Z
LAST-MODIFIED:20240207T220837Z
UID:52601-1708520400-1708527600@runningdogcoursing.com
SUMMARY:9 CATS North Florida ORKC Wednesday Test 2
DESCRIPTION:
URL:https://runningdogcoursing.com/event/9-cats-2024-02-21-2024425814/
LOCATION:North Florida Fair Grounds\, 441 E. Paul Russell Rd\, Tallahassee\, FL\, 32201\, United States
CATEGORIES:CATs
END:VEVENT
END:VCALENDAR