BEGIN:VCALENDAR
VERSION:2.0
PRODID:-//Running Dog Coursing - ECPv6.15.20//NONSGML v1.0//EN
CALSCALE:GREGORIAN
METHOD:PUBLISH
X-ORIGINAL-URL:https://runningdogcoursing.com
X-WR-CALDESC:Events for Running Dog Coursing
REFRESH-INTERVAL;VALUE=DURATION:PT1H
X-Robots-Tag:noindex
X-PUBLISHED-TTL:PT1H
BEGIN:VTIMEZONE
TZID:America/Chicago
BEGIN:DAYLIGHT
TZOFFSETFROM:-0600
TZOFFSETTO:-0500
TZNAME:CDT
DTSTART:20230312T080000
END:DAYLIGHT
BEGIN:STANDARD
TZOFFSETFROM:-0500
TZOFFSETTO:-0600
TZNAME:CST
DTSTART:20231105T070000
END:STANDARD
BEGIN:DAYLIGHT
TZOFFSETFROM:-0600
TZOFFSETTO:-0500
TZNAME:CDT
DTSTART:20240310T080000
END:DAYLIGHT
BEGIN:STANDARD
TZOFFSETFROM:-0500
TZOFFSETTO:-0600
TZNAME:CST
DTSTART:20241103T070000
END:STANDARD
BEGIN:DAYLIGHT
TZOFFSETFROM:-0600
TZOFFSETTO:-0500
TZNAME:CDT
DTSTART:20250309T080000
END:DAYLIGHT
BEGIN:STANDARD
TZOFFSETFROM:-0500
TZOFFSETTO:-0600
TZNAME:CST
DTSTART:20251102T070000
END:STANDARD
END:VTIMEZONE
BEGIN:VEVENT
DTSTART;TZID=America/Chicago:20240405T083000
DTEND;TZID=America/Chicago:20240405T113000
DTSTAMP:20260425T072620
CREATED:20240111T163823Z
LAST-MODIFIED:20240322T170145Z
UID:52699-1712305800-1712316600@runningdogcoursing.com
SUMMARY:2024 April CATS MS Gulf Coast Friday Test 1
DESCRIPTION:
URL:https://runningdogcoursing.com/event/2024-04-05-cats-01-2024672521/
LOCATION:Harrison County Fair Grounds\, 15321 County Farm Rd\, Gulfport\, MS\, 39503\, United States
CATEGORIES:CATs
END:VEVENT
BEGIN:VEVENT
DTSTART;TZID=America/Chicago:20240405T130000
DTEND;TZID=America/Chicago:20240405T150000
DTSTAMP:20260425T072620
CREATED:20240111T171336Z
LAST-MODIFIED:20240322T170144Z
UID:52700-1712322000-1712329200@runningdogcoursing.com
SUMMARY:2024 April CATS MS Gulf Coast Friday Test 2
DESCRIPTION:
URL:https://runningdogcoursing.com/event/2024-04-05-cats-02-2024672522/
LOCATION:Harrison County Fair Grounds\, 15321 County Farm Rd\, Gulfport\, MS\, 39503\, United States
CATEGORIES:CATs
END:VEVENT
BEGIN:VEVENT
DTSTART;TZID=America/Chicago:20240406T083000
DTEND;TZID=America/Chicago:20240406T113000
DTSTAMP:20260425T072620
CREATED:20240111T171506Z
LAST-MODIFIED:20240322T170143Z
UID:52701-1712392200-1712403000@runningdogcoursing.com
SUMMARY:2024 April CATS MS Gulf Coast Saturday Test 1
DESCRIPTION:
URL:https://runningdogcoursing.com/event/2024-04-06-cats-01-2024672523/
LOCATION:Harrison County Fair Grounds\, 15321 County Farm Rd\, Gulfport\, MS\, 39503\, United States
CATEGORIES:CATs
END:VEVENT
BEGIN:VEVENT
DTSTART;TZID=America/Chicago:20240406T130000
DTEND;TZID=America/Chicago:20240406T150000
DTSTAMP:20260425T072620
CREATED:20240111T171718Z
LAST-MODIFIED:20240322T170142Z
UID:52702-1712408400-1712415600@runningdogcoursing.com
SUMMARY:2024 April CATS MS Gulf Coast Saturday Test 2
DESCRIPTION:
URL:https://runningdogcoursing.com/event/2024-04-06-cats-02-2024672524/
LOCATION:Harrison County Fair Grounds\, 15321 County Farm Rd\, Gulfport\, MS\, 39503\, United States
CATEGORIES:CATs
END:VEVENT
BEGIN:VEVENT
DTSTART;TZID=America/Chicago:20240407T083000
DTEND;TZID=America/Chicago:20240407T233000
DTSTAMP:20260425T072620
CREATED:20240111T172405Z
LAST-MODIFIED:20240822T214221Z
UID:52703-1712478600-1712532600@runningdogcoursing.com
SUMMARY:2024 April CATS MS Gulf Coast Sunday Test 1
DESCRIPTION:
URL:https://runningdogcoursing.com/event/2024-04-07-cats-01-2024672525/
LOCATION:Harrison County Fair Grounds\, 15321 County Farm Rd\, Gulfport\, MS\, 39503\, United States
CATEGORIES:CATs
END:VEVENT
BEGIN:VEVENT
DTSTART;TZID=America/Chicago:20240407T130000
DTEND;TZID=America/Chicago:20240407T150000
DTSTAMP:20260425T072620
CREATED:20240111T172606Z
LAST-MODIFIED:20240322T170141Z
UID:52704-1712494800-1712502000@runningdogcoursing.com
SUMMARY:2024 April CATS MS Gulf Coast Sunday Test 2
DESCRIPTION:
URL:https://runningdogcoursing.com/event/2024-04-07-cats-02-2024672526/
LOCATION:Harrison County Fair Grounds\, 15321 County Farm Rd\, Gulfport\, MS\, 39503\, United States
CATEGORIES:CATs
END:VEVENT
END:VCALENDAR